BEGIN:VCALENDAR
VERSION:2.0
CALSCALE:GREGORIAN
PRODID:-//Diputació de Barcelona//DibaCMS//EN
BEGIN:VEVENT
UID:2947
DTSTAMP:20260423T034021
DTSTART:20161102T173000
DTEND:20161026T190000
SUMMARY:Inici Taller de la memòria
LOCATION:C/ Josep Fornell, s/n 08231 Ullastrell
METHOD:PUBLISH
X-WR-CALNAME:ullastrell@ullastrell.cat
X-WR-TIMEZONE:Europe/Madrid
DESCRIPTION:
URI:https://www.ullastrell.cat/actualitat/agenda/inici-taller-de-la-memoria.html
CLASS:PUBLIC
END:VEVENT
END:VCALENDAR
