BEGIN:VCALENDAR
VERSION:2.0
CALSCALE:GREGORIAN
PRODID:-//Diputació de Barcelona//DibaCMS//EN
BEGIN:VEVENT
UID:2948
DTSTAMP:20260423T035514
DTSTART:20161023T090000
DTEND:20161023T090000
SUMMARY:VIª Pujada DOGA - Sta. Maria Villalba / Ullastrell
LOCATION:
METHOD:PUBLISH
X-WR-CALNAME:ullastrell@ullastrell.cat
X-WR-TIMEZONE:Europe/Madrid
DESCRIPTION:El Club +Gas Factory Marc Gené organitza aquest Rally de cotxes a la carretera de El Suro

*La carretera BV1202 estarà tallada de 8:30h. a 15h.del diumenge 22/10/2016

URI:https://www.ullastrell.cat/actualitat/agenda/via-pujada-doga-sta-maria-villalba--ullastrell.html
CLASS:PUBLIC
END:VEVENT
END:VCALENDAR
