BEGIN:VCALENDAR
VERSION:2.0
CALSCALE:GREGORIAN
PRODID:-//Diputació de Barcelona//DibaCMS//EN
BEGIN:VEVENT
UID:2949
DTSTAMP:20260423T135019
DTSTART:20161026T073000
DTEND:20161026T073000
SUMMARY:Sortida La Colla de la Gent Gran
LOCATION:
METHOD:PUBLISH
X-WR-CALNAME:ullastrell@ullastrell.cat
X-WR-TIMEZONE:Europe/Madrid
DESCRIPTION:
URI:https://www.ullastrell.cat/actualitat/agenda/sortida-la-colla-de-la-gent-gran.html
CLASS:PUBLIC
END:VEVENT
END:VCALENDAR
