BEGIN:VCALENDAR
VERSION:2.0
CALSCALE:GREGORIAN
PRODID:-//Diputació de Barcelona//DibaCMS//EN
BEGIN:VEVENT
UID:2953
DTSTAMP:20260423T103647
DTSTART:20161020T200000
DTEND:20161020T211000
SUMMARY:TALLER PER A PARES I MARES: Els canvis a l'adolescència
LOCATION:
METHOD:PUBLISH
X-WR-CALNAME:ullastrell@ullastrell.cat
X-WR-TIMEZONE:Europe/Madrid
DESCRIPTION:
URI:https://www.ullastrell.cat/actualitat/agenda/taller-per-a-pares-i-mares-els-canvis-a-ladolescencia.html
CLASS:PUBLIC
END:VEVENT
END:VCALENDAR
