BEGIN:VCALENDAR
VERSION:2.0
CALSCALE:GREGORIAN
PRODID:-//Diputació de Barcelona//DibaCMS//EN
BEGIN:VEVENT
UID:2956
DTSTAMP:20260423T081249
DTSTART:20161103T213000
DTEND:20161103T213000
SUMMARY:Dijous Culturals amb Agnès Planas
LOCATION:C/ Josep Fornell, s/n 08231 Ullastrell
METHOD:PUBLISH
X-WR-CALNAME:ullastrell@ullastrell.cat
X-WR-TIMEZONE:Europe/Madrid
DESCRIPTION:
URI:https://www.ullastrell.cat/actualitat/agenda/dijous-culturals-amb-agnes-planas.html
CLASS:PUBLIC
END:VEVENT
END:VCALENDAR
