BEGIN:VCALENDAR
VERSION:2.0
CALSCALE:GREGORIAN
PRODID:-//Diputació de Barcelona//DibaCMS//EN
BEGIN:VEVENT
UID:2957
DTSTAMP:20260423T050113
DTSTART:20161106T120000
DTEND:20161106T120000
SUMMARY:Sense Solta - Teatre matinal per infants
LOCATION:C/ Josep Fornell, s/n 08231 Ullastrell
METHOD:PUBLISH
X-WR-CALNAME:ullastrell@ullastrell.cat
X-WR-TIMEZONE:Europe/Madrid
DESCRIPTION:La Companyia Teatre mòbil ens porta l'espectacle infantil "Sense Solta"
Premi al Millor Espectacle de la Mostra de Teatre Infantil i Juvenil d'Igualada 2013

 

URI:https://www.ullastrell.cat/actualitat/agenda/sense-solta-teatre-matinal-per-infants.html
CLASS:PUBLIC
END:VEVENT
END:VCALENDAR
