BEGIN:VCALENDAR
VERSION:2.0
CALSCALE:GREGORIAN
PRODID:-//Diputació de Barcelona//DibaCMS//EN
BEGIN:VEVENT
UID:2958
DTSTAMP:20260423T105013
DTSTART:20161106T180000
DTEND:20161106T180000
SUMMARY:EnCants de dona - Òpera còmica
LOCATION:C/ Josep Fornell, s/n 08231 Ullastrell
METHOD:PUBLISH
X-WR-CALNAME:ullastrell@ullastrell.cat
X-WR-TIMEZONE:Europe/Madrid
DESCRIPTION:La Companyia Òpera Còmica de Barcelona ens porta l'espectacle "EnCants de dona"

URI:https://www.ullastrell.cat/actualitat/agenda/encants-de-dona-opera-comica.html
CLASS:PUBLIC
END:VEVENT
END:VCALENDAR
