BEGIN:VCALENDAR
VERSION:2.0
CALSCALE:GREGORIAN
PRODID:-//Diputació de Barcelona//DibaCMS//EN
BEGIN:VEVENT
UID:2959
DTSTAMP:20260423T110354
DTSTART:20161127T120000
DTEND:20161127T120000
SUMMARY:Pica de mans - teatre musical per infants
LOCATION:C/ Josep Fornell, s/n 08231 Ullastrell
METHOD:PUBLISH
X-WR-CALNAME:ullastrell@ullastrell.cat
X-WR-TIMEZONE:Europe/Madrid
DESCRIPTION:La Companyia Pentina el Gat ens porta l'espectacle infantil "Pica de mans" indicat per nens i nenes que cursen el cicle inicial i 2n. cicle

URI:https://www.ullastrell.cat/actualitat/agenda/pica-de-mans-teatre-musical-per-infants.html
CLASS:PUBLIC
END:VEVENT
END:VCALENDAR
