BEGIN:VCALENDAR
VERSION:2.0
CALSCALE:GREGORIAN
PRODID:-//Diputació de Barcelona//DibaCMS//EN
BEGIN:VEVENT
UID:2960
DTSTAMP:20260423T061220
DTSTART:20161028T160000
DTEND:20161028T200000
SUMMARY:Curs DEA
LOCATION:C/ Serra, 17 08231 Ullastrell
METHOD:PUBLISH
X-WR-CALNAME:ullastrell@ullastrell.cat
X-WR-TIMEZONE:Europe/Madrid
DESCRIPTION:Curs formatiu de l'utilització d'un desfibril.lador (DEA)

URI:https://www.ullastrell.cat/actualitat/agenda/curs-dea.html
CLASS:PUBLIC
END:VEVENT
END:VCALENDAR
