BEGIN:VCALENDAR
VERSION:2.0
CALSCALE:GREGORIAN
PRODID:-//Diputació de Barcelona//DibaCMS//EN
BEGIN:VEVENT
UID:2962
DTSTAMP:20260423T004959
DTSTART:20161026T170000
DTEND:20161026T182500
SUMMARY:Taller de tardor a la Biblioteca
LOCATION:C/ Josep Fornell, s/n 08231 Ullastrell
METHOD:PUBLISH
X-WR-CALNAME:ullastrell@ullastrell.cat
X-WR-TIMEZONE:Europe/Madrid
DESCRIPTION:Vine al taller de tardor!

URI:https://www.ullastrell.cat/actualitat/agenda/taller-de-tardor-a-la-biblioteca.html
CLASS:PUBLIC
END:VEVENT
END:VCALENDAR
