BEGIN:VCALENDAR
VERSION:2.0
CALSCALE:GREGORIAN
PRODID:-//Diputació de Barcelona//DibaCMS//EN
BEGIN:VEVENT
UID:2968
DTSTAMP:20260423T021715
DTSTART:20161026T200000
DTEND:20161026T200000
SUMMARY:Ple Extraordinari Urgent
LOCATION:C/ Serra, 17 08231 Ullastrell
METHOD:PUBLISH
X-WR-CALNAME:ullastrell@ullastrell.cat
X-WR-TIMEZONE:Europe/Madrid
DESCRIPTION:Sessio plenària extraordinaria urgent

URI:https://www.ullastrell.cat/actualitat/agenda/ple-extraordinari-urgent.html
CLASS:PUBLIC
END:VEVENT
END:VCALENDAR
