BEGIN:VCALENDAR
VERSION:2.0
CALSCALE:GREGORIAN
PRODID:-//Diputació de Barcelona//DibaCMS//EN
BEGIN:VEVENT
UID:2970
DTSTAMP:20260423T115744
DTSTART:20161108T170000
DTEND:20161117T183000
SUMMARY:Les famílies i l’èxit educatiu dels fills i filles: una paleta de colors
LOCATION:C/ Josep Fornell, s/n 08231 Ullastrell
METHOD:PUBLISH
X-WR-CALNAME:ullastrell@ullastrell.cat
X-WR-TIMEZONE:Europe/Madrid
DESCRIPTION:Taller adreçat a pares i mares de primària.

URI:https://www.ullastrell.cat/actualitat/agenda/les-families-i-lexit-educatiu-dels-fills-i-filles-una-paleta-de-colors.html
CLASS:PUBLIC
END:VEVENT
END:VCALENDAR
