BEGIN:VCALENDAR
VERSION:2.0
CALSCALE:GREGORIAN
PRODID:-//Diputació de Barcelona//DibaCMS//EN
BEGIN:VEVENT
UID:2974
DTSTAMP:20260423T061640
DTSTART:20161104T110000
DTEND:20161120T140000
SUMMARY:Exposició: Ullastrell, postes de sol
LOCATION:C/ Serra 37 08231 Ullastrell
METHOD:PUBLISH
X-WR-CALNAME:ullastrell@ullastrell.cat
X-WR-TIMEZONE:Europe/Madrid
DESCRIPTION:Divendres 4 de novembre s'inaugurarà l'exposició "Ullastrell, postes de sol" a l'Espai Cultural "El Progrés"

URI:https://www.ullastrell.cat/actualitat/agenda/exposicio-ullastrell-postes-de-sol.html
CLASS:PUBLIC
END:VEVENT
END:VCALENDAR
