BEGIN:VCALENDAR
VERSION:2.0
CALSCALE:GREGORIAN
PRODID:-//Diputació de Barcelona//DibaCMS//EN
BEGIN:VEVENT
UID:2977
DTSTAMP:20260423T103421
DTSTART:20161110T210000
DTEND:20161110T223000
SUMMARY:Entrega de premi del II Concurs literari
LOCATION:C/ Josep Fornell, s/n 08231 Ullastrell
METHOD:PUBLISH
X-WR-CALNAME:ullastrell@ullastrell.cat
X-WR-TIMEZONE:Europe/Madrid
DESCRIPTION:Entrega del premi a Josep Puig i Amat com a autor del relat literari guanyador.

URI:https://www.ullastrell.cat/actualitat/agenda/entrega-de-premi-del-ii-concurs-literari.html
CLASS:PUBLIC
END:VEVENT
END:VCALENDAR
