BEGIN:VCALENDAR
VERSION:2.0
CALSCALE:GREGORIAN
PRODID:-//Diputació de Barcelona//DibaCMS//EN
BEGIN:VEVENT
UID:2979
DTSTAMP:20260423T062526
DTSTART:20161109T170000
DTEND:20161109T180000
SUMMARY:L'Hora del Conte
LOCATION:C/ Josep Fornell, s/n 08231 Ullastrell
METHOD:PUBLISH
X-WR-CALNAME:ullastrell@ullastrell.cat
X-WR-TIMEZONE:Europe/Madrid
DESCRIPTION:La Biblioteca Josep Massagué junt amb el Bibliobús La Mola ens porten a Núria Clemares a "L'hora del Conte"

URI:https://www.ullastrell.cat/actualitat/agenda/2979-lhora-del-conte.html
CLASS:PUBLIC
END:VEVENT
END:VCALENDAR
