BEGIN:VCALENDAR
VERSION:2.0
CALSCALE:GREGORIAN
PRODID:-//Diputació de Barcelona//DibaCMS//EN
BEGIN:VEVENT
UID:2985
DTSTAMP:20260423T112039
DTSTART:20161217T110000
DTEND:20161218T140000
SUMMARY:Fira de Santa Llúcia
LOCATION:c/ Serra - davant Ajuntament 
METHOD:PUBLISH
X-WR-CALNAME:ullastrell@ullastrell.cat
X-WR-TIMEZONE:Europe/Madrid
DESCRIPTION:Mireu el programa per veure el detall de les activitats

URI:https://www.ullastrell.cat/actualitat/agenda/fira-de-santa-llucia.html
CLASS:PUBLIC
END:VEVENT
END:VCALENDAR
