BEGIN:VCALENDAR
VERSION:2.0
CALSCALE:GREGORIAN
PRODID:-//Diputació de Barcelona//DibaCMS//EN
BEGIN:VEVENT
UID:2989
DTSTAMP:20260423T122332
DTSTART:20161120T183000
DTEND:20161120T183000
SUMMARY:TEATRE - Nit de Ràdio 2.0
LOCATION:C/ Josep Fornell, s/n 08231 Ullastrell
METHOD:PUBLISH
X-WR-CALNAME:ullastrell@ullastrell.cat
X-WR-TIMEZONE:Europe/Madrid
DESCRIPTION:28ª Mostra de Teatre d'Ullastrell

URI:https://www.ullastrell.cat/actualitat/agenda/teatre-nit-de-radio-20.html
CLASS:PUBLIC
END:VEVENT
END:VCALENDAR
