BEGIN:VCALENDAR
VERSION:2.0
CALSCALE:GREGORIAN
PRODID:-//Diputació de Barcelona//DibaCMS//EN
BEGIN:VEVENT
UID:2991
DTSTAMP:20260423T110231
DTSTART:20161126T120000
DTEND:20161126T120000
SUMMARY:CORAL - Missa cantada i petit concert
LOCATION:Basílica de Santa Maria del Mar de Barcelona 
METHOD:PUBLISH
X-WR-CALNAME:ullastrell@ullastrell.cat
X-WR-TIMEZONE:Europe/Madrid
DESCRIPTION:
URI:https://www.ullastrell.cat/actualitat/agenda/coral-missa-cantada-i-petit-concert.html
CLASS:PUBLIC
END:VEVENT
END:VCALENDAR
