BEGIN:VCALENDAR
VERSION:2.0
CALSCALE:GREGORIAN
PRODID:-//Diputació de Barcelona//DibaCMS//EN
BEGIN:VEVENT
UID:2992
DTSTAMP:20260423T121026
DTSTART:20161119T170000
DTEND:20161119T203000
SUMMARY:Donació de Sang
LOCATION:C/ Josep Fornell, s/n 08231 Ullastrell
METHOD:PUBLISH
X-WR-CALNAME:ullastrell@ullastrell.cat
X-WR-TIMEZONE:Europe/Madrid
DESCRIPTION:
URI:https://www.ullastrell.cat/actualitat/agenda/donacio-de-sang.html
CLASS:PUBLIC
END:VEVENT
END:VCALENDAR
