BEGIN:VCALENDAR
VERSION:2.0
CALSCALE:GREGORIAN
PRODID:-//Diputació de Barcelona//DibaCMS//EN
BEGIN:VEVENT
UID:2993
DTSTAMP:20260423T062844
DTSTART:20161123T170000
DTEND:20161123T180000
SUMMARY:L'Hora del Conte a la Biblioteca
LOCATION:C/ Josep Fornell, s/n 08231 Ullastrell
METHOD:PUBLISH
X-WR-CALNAME:ullastrell@ullastrell.cat
X-WR-TIMEZONE:Europe/Madrid
DESCRIPTION:
URI:https://www.ullastrell.cat/actualitat/agenda/lhora-del-conte-a-la-biblioteca.html
CLASS:PUBLIC
END:VEVENT
END:VCALENDAR
