BEGIN:VCALENDAR
VERSION:2.0
CALSCALE:GREGORIAN
PRODID:-//Diputació de Barcelona//DibaCMS//EN
BEGIN:VEVENT
UID:2998
DTSTAMP:20260423T134411
DTSTART:20161203T090000
DTEND:20161203T133000
SUMMARY:Deixalleria mòbil
LOCATION:Pl. Lluís Companys
Pl. Serralavella
c/ Arquitecte Alsius 
METHOD:PUBLISH
X-WR-CALNAME:ullastrell@ullastrell.cat
X-WR-TIMEZONE:Europe/Madrid
DESCRIPTION:Servei gratuït de recollida de residus especials que no es poden dipositar en els contenidors habituals.

URI:https://www.ullastrell.cat/actualitat/agenda/2998-deixalleria-mobil.html
CLASS:PUBLIC
END:VEVENT
END:VCALENDAR
