BEGIN:VCALENDAR
VERSION:2.0
CALSCALE:GREGORIAN
PRODID:-//Diputació de Barcelona//DibaCMS//EN
BEGIN:VEVENT
UID:2999
DTSTAMP:20260423T110425
DTSTART:20161207T100000
DTEND:20161207T103000
SUMMARY:Petit concert pels més petits
LOCATION:Camí de Can Font, s/n 08231 Ullastrell
METHOD:PUBLISH
X-WR-CALNAME:ullastrell@ullastrell.cat
X-WR-TIMEZONE:Europe/Madrid
DESCRIPTION:La Coral d'Ullastrell oferirà un tastet de Nadales als més petits del poble!

URI:https://www.ullastrell.cat/actualitat/agenda/petit-concert-pels-mes-petits.html
CLASS:PUBLIC
END:VEVENT
END:VCALENDAR
