BEGIN:VCALENDAR
VERSION:2.0
CALSCALE:GREGORIAN
PRODID:-//Diputació de Barcelona//DibaCMS//EN
BEGIN:VEVENT
UID:3000
DTSTAMP:20260423T091712
DTSTART:20161211T183000
DTEND:20161211T183000
SUMMARY:XXVIII Mostra de Teatre
LOCATION:C/ Josep Fornell, s/n 08231 Ullastrell
METHOD:PUBLISH
X-WR-CALNAME:ullastrell@ullastrell.cat
X-WR-TIMEZONE:Europe/Madrid
DESCRIPTION:Dins la Mostra de Teatre s'oferirà l'obra "Lampedusa"

URI:https://www.ullastrell.cat/actualitat/agenda/xxviii-mostra-de-teatre.html
CLASS:PUBLIC
END:VEVENT
END:VCALENDAR
