BEGIN:VCALENDAR
VERSION:2.0
CALSCALE:GREGORIAN
PRODID:-//Diputació de Barcelona//DibaCMS//EN
BEGIN:VEVENT
UID:3005
DTSTAMP:20260423T085113
DTSTART:20161215T160000
DTEND:20161215T160000
SUMMARY:XERRADA - El Sintrom
LOCATION:C/ Josep Fornell, s/n 08231 Ullastrell
METHOD:PUBLISH
X-WR-CALNAME:ullastrell@ullastrell.cat
X-WR-TIMEZONE:Europe/Madrid
DESCRIPTION:Xerrada informativa organitzada per La Colla de la Gent Gran

URI:https://www.ullastrell.cat/actualitat/agenda/xerrada-el-sintrom.html
CLASS:PUBLIC
END:VEVENT
END:VCALENDAR
