BEGIN:VCALENDAR
VERSION:2.0
CALSCALE:GREGORIAN
PRODID:-//Diputació de Barcelona//DibaCMS//EN
BEGIN:VEVENT
UID:3007
DTSTAMP:20260423T121504
DTSTART:20161214T200000
DTEND:20161214T210000
SUMMARY:Ple extraordinari urgent 14/12/16
LOCATION:
METHOD:PUBLISH
X-WR-CALNAME:ullastrell@ullastrell.cat
X-WR-TIMEZONE:Europe/Madrid
DESCRIPTION:
URI:https://www.ullastrell.cat/actualitat/agenda/ple-extraordinari-urgent-141216.html
CLASS:PUBLIC
END:VEVENT
END:VCALENDAR
