BEGIN:VCALENDAR
VERSION:2.0
CALSCALE:GREGORIAN
PRODID:-//Diputació de Barcelona//DibaCMS//EN
BEGIN:VEVENT
UID:3011
DTSTAMP:20260423T103829
DTSTART:20161217T160000
DTEND:20161217T160000
SUMMARY:Cantada de Nadales a la Residència Sant Llàtzer
LOCATION:Residència Sant Llàtzer de Terrassa 
METHOD:PUBLISH
X-WR-CALNAME:ullastrell@ullastrell.cat
X-WR-TIMEZONE:Europe/Madrid
DESCRIPTION:
URI:https://www.ullastrell.cat/actualitat/agenda/cantada-de-nadales-a-la-residencia-sant-llatzer.html
CLASS:PUBLIC
END:VEVENT
END:VCALENDAR
