BEGIN:VCALENDAR
VERSION:2.0
CALSCALE:GREGORIAN
PRODID:-//Diputació de Barcelona//DibaCMS//EN
BEGIN:VEVENT
UID:3012
DTSTAMP:20260423T110259
DTSTART:20161217T180000
DTEND:20161217T180000
SUMMARY:Cantada de Nadales a la Residència d'Ullastrell
LOCATION:C/ Serra, 54  08231 Ullastrell
METHOD:PUBLISH
X-WR-CALNAME:ullastrell@ullastrell.cat
X-WR-TIMEZONE:Europe/Madrid
DESCRIPTION:
URI:https://www.ullastrell.cat/actualitat/agenda/cantada-de-nadales-a-la-residencia-dullastrell.html
CLASS:PUBLIC
END:VEVENT
END:VCALENDAR
