BEGIN:VCALENDAR
VERSION:2.0
CALSCALE:GREGORIAN
PRODID:-//Diputació de Barcelona//DibaCMS//EN
BEGIN:VEVENT
UID:3013
DTSTAMP:20260423T091521
DTSTART:20161217T190000
DTEND:20161217T190000
SUMMARY:Petit concert de Santa Llúcia
LOCATION:Carrer Serra - Davant Ajuntament 
METHOD:PUBLISH
X-WR-CALNAME:ullastrell@ullastrell.cat
X-WR-TIMEZONE:Europe/Madrid
DESCRIPTION:Participació a la Fira de Santa Llúcia

URI:https://www.ullastrell.cat/actualitat/agenda/petit-concert-de-santa-llucia.html
CLASS:PUBLIC
END:VEVENT
END:VCALENDAR
