BEGIN:VCALENDAR
VERSION:2.0
CALSCALE:GREGORIAN
PRODID:-//Diputació de Barcelona//DibaCMS//EN
BEGIN:VEVENT
UID:3014
DTSTAMP:20260423T044938
DTSTART:20161224T000000
DTEND:20161224T000000
SUMMARY:Missa del Gall
LOCATION:Plaça de l'església, 2 08231 Ullastrell
METHOD:PUBLISH
X-WR-CALNAME:ullastrell@ullastrell.cat
X-WR-TIMEZONE:Europe/Madrid
DESCRIPTION:Missa de la nit de Nadal

URI:https://www.ullastrell.cat/actualitat/agenda/missa-del-gall.html
CLASS:PUBLIC
END:VEVENT
END:VCALENDAR
