BEGIN:VCALENDAR
VERSION:2.0
CALSCALE:GREGORIAN
PRODID:-//Diputació de Barcelona//DibaCMS//EN
BEGIN:VEVENT
UID:3015
DTSTAMP:20260423T135139
DTSTART:20161226T103000
DTEND:20161226T103000
SUMMARY:37ª Cursa EL BOLET 
LOCATION:Sortida davant de l'Ajuntament d'Ullastrell 
METHOD:PUBLISH
X-WR-CALNAME:ullastrell@ullastrell.cat
X-WR-TIMEZONE:Europe/Madrid
DESCRIPTION:16è Memorial Robert Colilles

URI:https://www.ullastrell.cat/actualitat/agenda/37a-cursa-el-bolet-.html
CLASS:PUBLIC
END:VEVENT
END:VCALENDAR
