BEGIN:VCALENDAR
VERSION:2.0
CALSCALE:GREGORIAN
PRODID:-//Diputació de Barcelona//DibaCMS//EN
BEGIN:VEVENT
UID:3017
DTSTAMP:20260423T134437
DTSTART:20161226T190000
DTEND:20161226T210000
SUMMARY:ELS PASTORETS de Folch i Torres
LOCATION:C/ Josep Fornell, s/n 08231 Ullastrell
METHOD:PUBLISH
X-WR-CALNAME:ullastrell@ullastrell.cat
X-WR-TIMEZONE:Europe/Madrid
DESCRIPTION:XXVIII Mostra de Teatre

Amb el GATU i la CORAL



URI:https://www.ullastrell.cat/actualitat/agenda/3017-els-pastorets-de-folch-i-torres.html
CLASS:PUBLIC
END:VEVENT
END:VCALENDAR
