BEGIN:VCALENDAR
VERSION:2.0
CALSCALE:GREGORIAN
PRODID:-//Diputació de Barcelona//DibaCMS//EN
BEGIN:VEVENT
UID:3021
DTSTAMP:20260423T073504
DTSTART:20161218T170000
DTEND:20161218T200000
SUMMARY:QUINTO
LOCATION:C/ Josep Fornell, s/n 08231 Ullastrell
METHOD:PUBLISH
X-WR-CALNAME:ullastrell@ullastrell.cat
X-WR-TIMEZONE:Europe/Madrid
DESCRIPTION:Tradicional joc de Nadal!

URI:https://www.ullastrell.cat/actualitat/agenda/3021-quinto.html
CLASS:PUBLIC
END:VEVENT
END:VCALENDAR
