BEGIN:VCALENDAR
VERSION:2.0
CALSCALE:GREGORIAN
PRODID:-//Diputació de Barcelona//DibaCMS//EN
BEGIN:VEVENT
UID:3028
DTSTAMP:20260423T120845
DTSTART:20170105T110000
DTEND:20170105T130000
SUMMARY:Esquellots 
LOCATION:
METHOD:PUBLISH
X-WR-CALNAME:ullastrell@ullastrell.cat
X-WR-TIMEZONE:Europe/Madrid
DESCRIPTION:Dijous 5 de gener, a les 11 del matí us esperem a tots, petits i grans, a la Plaça Serralavella a fer els esquellots per avisar a SS.MM. els Reis Mags de l'Orient que no s'oblidin de passar per Ullastrell.

Veniu a fer força soroll! 

URI:https://www.ullastrell.cat/actualitat/agenda/esquellots-.html
CLASS:PUBLIC
END:VEVENT
END:VCALENDAR
