BEGIN:VCALENDAR
VERSION:2.0
CALSCALE:GREGORIAN
PRODID:-//Diputació de Barcelona//DibaCMS//EN
BEGIN:VEVENT
UID:3029
DTSTAMP:20260423T171109
DTSTART:20170105T190000
DTEND:20170105T190000
SUMMARY:Benvinguda a SS. MM. Reis Mags de l'Orient
LOCATION:C/ Serra, 17 08231 Ullastrell
METHOD:PUBLISH
X-WR-CALNAME:ullastrell@ullastrell.cat
X-WR-TIMEZONE:Europe/Madrid
DESCRIPTION:El dijous dia 5 a les 19h. donarem la benvinguda a SS.MM. els Reis Mags de l'Orient a l'Ajuntament i després podreu entregar la carta a les seves carrosses que estaran a la Pl.Lluís Companys.

Recordeu que hi haurà la cua principal que tindran preferència els nens i nenes que hagin anar a fer Esquellots i seguidament s'obrirà l'altra cua.

URI:https://www.ullastrell.cat/actualitat/agenda/benvinguda-a-ss-mm-reis-mags-de-lorient.html
CLASS:PUBLIC
END:VEVENT
END:VCALENDAR
