BEGIN:VCALENDAR
VERSION:2.0
CALSCALE:GREGORIAN
PRODID:-//Diputació de Barcelona//DibaCMS//EN
BEGIN:VEVENT
UID:3030
DTSTAMP:20260423T152510
DTSTART:20170115T100000
DTEND:20170122T140000
SUMMARY:VIª Festa de l'Oli i l'Oliva d'Ullastrell
LOCATION:
METHOD:PUBLISH
X-WR-CALNAME:ullastrell@ullastrell.cat
X-WR-TIMEZONE:Europe/Madrid
DESCRIPTION:Programa detallat a l'AGENDA de la web.

Arxiu adjunt en format PDF del programa per descarregar (lateral)

URI:https://www.ullastrell.cat/actualitat/agenda/via-festa-de-loli-i-loliva-dullastrell.html
CLASS:PUBLIC
END:VEVENT
END:VCALENDAR
