BEGIN:VCALENDAR
VERSION:2.0
CALSCALE:GREGORIAN
PRODID:-//Diputació de Barcelona//DibaCMS//EN
BEGIN:VEVENT
UID:3031
DTSTAMP:20260423T134426
DTSTART:20170122T100000
DTEND:20170122T140000
SUMMARY:Fira de l'Oli d'Ullastrell
LOCATION:Plaça Joan Montmany 
METHOD:PUBLISH
X-WR-CALNAME:ullastrell@ullastrell.cat
X-WR-TIMEZONE:Europe/Madrid
DESCRIPTION:Acte inclòs a la 6ª Festa de l'Oli i l'Oliva d'Ullastrell 

URI:https://www.ullastrell.cat/actualitat/agenda/fira-de-loli-dullastrell.html
CLASS:PUBLIC
END:VEVENT
END:VCALENDAR
