BEGIN:VCALENDAR
VERSION:2.0
CALSCALE:GREGORIAN
PRODID:-//Diputació de Barcelona//DibaCMS//EN
BEGIN:VEVENT
UID:3037
DTSTAMP:20260423T120731
DTSTART:20170107T220000
DTEND:20170107T220000
SUMMARY:Quinto
LOCATION:C/ Josep Fornell, s/n 08231 Ullastrell
METHOD:PUBLISH
X-WR-CALNAME:ullastrell@ullastrell.cat
X-WR-TIMEZONE:Europe/Madrid
DESCRIPTION:Joc tradicional de Nadal

URI:https://www.ullastrell.cat/actualitat/agenda/3037-quinto.html
CLASS:PUBLIC
END:VEVENT
END:VCALENDAR
