BEGIN:VCALENDAR
VERSION:2.0
CALSCALE:GREGORIAN
PRODID:-//Diputació de Barcelona//DibaCMS//EN
BEGIN:VEVENT
UID:3045
DTSTAMP:20260423T135540
DTSTART:20170115T183000
DTEND:20170115T183000
SUMMARY:XXVIII Mostra de Teatre - EL CRIAT DE DOS AMOS
LOCATION:C/ Josep Fornell, s/n 08231 Ullastrell
METHOD:PUBLISH
X-WR-CALNAME:ullastrell@ullastrell.cat
X-WR-TIMEZONE:Europe/Madrid
DESCRIPTION:El GATU ens convida a veure l'obra de teatre "El criat de dos amos" de Carlo Goldoni que anirà a càrrec de la Cia. BETÚLIA TEATRE de Badalona.

URI:https://www.ullastrell.cat/actualitat/agenda/xxviii-mostra-de-teatre-el-criat-de-dos-amos.html
CLASS:PUBLIC
END:VEVENT
END:VCALENDAR
