BEGIN:VCALENDAR
VERSION:2.0
CALSCALE:GREGORIAN
PRODID:-//Diputació de Barcelona//DibaCMS//EN
BEGIN:VEVENT
UID:3046
DTSTAMP:20260423T201046
DTSTART:20170115T100000
DTEND:20170115T140000
SUMMARY:Curs de poda d'oliveres
LOCATION:Olivar de Cal Masvalls
Olivar de Can Morral 
METHOD:PUBLISH
X-WR-CALNAME:ullastrell@ullastrell.cat
X-WR-TIMEZONE:Europe/Madrid
DESCRIPTION:Acte inclòs a la 6ª Festa de l'Oli i l'Oliva d'Ullastrell

URI:https://www.ullastrell.cat/actualitat/agenda/curs-de-poda-doliveres.html
CLASS:PUBLIC
END:VEVENT
END:VCALENDAR
