BEGIN:VCALENDAR
VERSION:2.0
CALSCALE:GREGORIAN
PRODID:-//Diputació de Barcelona//DibaCMS//EN
BEGIN:VEVENT
UID:3047
DTSTAMP:20260423T093258
DTSTART:20170117T210000
DTEND:20170117T210000
SUMMARY:Inauguració de la 6ª Festa de l'Oli i l'Oliva d'Ullastrell
LOCATION:C/Josep Fornell s/n  08231 Ullastrell
METHOD:PUBLISH
X-WR-CALNAME:ullastrell@ullastrell.cat
X-WR-TIMEZONE:Europe/Madrid
DESCRIPTION:Acte inclòs a la 6ª Festa de l'Oli i l'Oliva d'Ullastrell

URI:https://www.ullastrell.cat/actualitat/agenda/inauguracio-de-la-6a-festa-de-loli-i-loliva-dullastrell.html
CLASS:PUBLIC
END:VEVENT
END:VCALENDAR
