BEGIN:VCALENDAR
VERSION:2.0
CALSCALE:GREGORIAN
PRODID:-//Diputació de Barcelona//DibaCMS//EN
BEGIN:VEVENT
UID:3048
DTSTAMP:20260423T110047
DTSTART:20170120T170000
DTEND:20170120T180000
SUMMARY:Berenar infantil de pa amb oli i sucre
LOCATION:Davant Ajuntament 
METHOD:PUBLISH
X-WR-CALNAME:ullastrell@ullastrell.cat
X-WR-TIMEZONE:Europe/Madrid
DESCRIPTION:Acte inclòs a la 6ª Festa de l'Oli i l'Oliva d'Ullastrell 

URI:https://www.ullastrell.cat/actualitat/agenda/3048-berenar-infantil-de-pa-amb-oli-i-sucre.html
CLASS:PUBLIC
END:VEVENT
END:VCALENDAR
