BEGIN:VCALENDAR
VERSION:2.0
CALSCALE:GREGORIAN
PRODID:-//Diputació de Barcelona//DibaCMS//EN
BEGIN:VEVENT
UID:3050
DTSTAMP:20260423T104042
DTSTART:20170121T100000
DTEND:20170121T100000
SUMMARY:Caminada popular per les oliveres oblidades
LOCATION:Sortida de la Plaça Lluís Companys 
METHOD:PUBLISH
X-WR-CALNAME:ullastrell@ullastrell.cat
X-WR-TIMEZONE:Europe/Madrid
DESCRIPTION:Acte inclòs a la 6ª Festa de l'Oli i l'Oliva d'Ullastrell

URI:https://www.ullastrell.cat/actualitat/agenda/3050-caminada-popular-per-les-oliveres-oblidades.html
CLASS:PUBLIC
END:VEVENT
END:VCALENDAR
