BEGIN:VCALENDAR
VERSION:2.0
CALSCALE:GREGORIAN
PRODID:-//Diputació de Barcelona//DibaCMS//EN
BEGIN:VEVENT
UID:3051
DTSTAMP:20260423T122300
DTSTART:20170121T200000
DTEND:20170121T200000
SUMMARY:Concurs de Llançament de pinyol
LOCATION:C/ Prat de la Riba 
METHOD:PUBLISH
X-WR-CALNAME:ullastrell@ullastrell.cat
X-WR-TIMEZONE:Europe/Madrid
DESCRIPTION:Acte inclòs a la 6ª Festa de l'Oli i l'Oliva d'Ullastrell 

URI:https://www.ullastrell.cat/actualitat/agenda/concurs-de-llancament-de-pinyol.html
CLASS:PUBLIC
END:VEVENT
END:VCALENDAR
