BEGIN:VCALENDAR
VERSION:2.0
CALSCALE:GREGORIAN
PRODID:-//Diputació de Barcelona//DibaCMS//EN
BEGIN:VEVENT
UID:3053
DTSTAMP:20260423T121342
DTSTART:20170122T090000
DTEND:20170122T090000
SUMMARY:1ª Trobada d'Scketchers a Ullastrell
LOCATION:C/ Serra, 17 08231 Ullastrell
METHOD:PUBLISH
X-WR-CALNAME:ullastrell@ullastrell.cat
X-WR-TIMEZONE:Europe/Madrid
DESCRIPTION:Acte inclòs a la 6ª Festa de l'Oli i l'Oliva d'Ullastrell 

URI:https://www.ullastrell.cat/actualitat/agenda/1a-trobada-dscketchers-a-ullastrell.html
CLASS:PUBLIC
END:VEVENT
END:VCALENDAR
