BEGIN:VCALENDAR
VERSION:2.0
CALSCALE:GREGORIAN
PRODID:-//Diputació de Barcelona//DibaCMS//EN
BEGIN:VEVENT
UID:3054
DTSTAMP:20260423T091549
DTSTART:20170122T120000
DTEND:20170122T120000
SUMMARY:Festa Infantil amb EL DIT AL NAS
LOCATION:Plaça Joan Montmany 
METHOD:PUBLISH
X-WR-CALNAME:ullastrell@ullastrell.cat
X-WR-TIMEZONE:Europe/Madrid
DESCRIPTION:Acte inclòs a la 6ª Festa de l'Oli i l'Oliva d'Ullastrell 

URI:https://www.ullastrell.cat/actualitat/agenda/festa-infantil-amb-el-dit-al-nas.html
CLASS:PUBLIC
END:VEVENT
END:VCALENDAR
