BEGIN:VCALENDAR
VERSION:2.0
CALSCALE:GREGORIAN
PRODID:-//Diputació de Barcelona//DibaCMS//EN
BEGIN:VEVENT
UID:3055
DTSTAMP:20260423T110149
DTSTART:20170122T140000
DTEND:20170122T140000
SUMMARY:Entrega de Premis - Millor Oli Local
LOCATION:Plaça Joan Montmany 
METHOD:PUBLISH
X-WR-CALNAME:ullastrell@ullastrell.cat
X-WR-TIMEZONE:Europe/Madrid
DESCRIPTION:Acte inclòs a la 6ª Festa de l'Oli i l'Oliva d'Ullastrell 

URI:https://www.ullastrell.cat/actualitat/agenda/entrega-de-premis-millor-oli-local.html
CLASS:PUBLIC
END:VEVENT
END:VCALENDAR
