BEGIN:VCALENDAR
VERSION:2.0
CALSCALE:GREGORIAN
PRODID:-//Diputació de Barcelona//DibaCMS//EN
BEGIN:VEVENT
UID:3068
DTSTAMP:20260423T075324
DTSTART:20170129T183000
DTEND:20170129T183000
SUMMARY:XXVIIIª Mostra de Teatre - LA CORONA D'ESPINES de J.M. de Segarra
LOCATION:C/ Josep Fornell, s/n 08231 Ullastrell
METHOD:PUBLISH
X-WR-CALNAME:ullastrell@ullastrell.cat
X-WR-TIMEZONE:Europe/Madrid
DESCRIPTION:Representada per la Cia. QOLLUNAKA de Terrassa

URI:https://www.ullastrell.cat/actualitat/agenda/xxviiia-mostra-de-teatre-la-corona-despines-de-jm-de-segarra.html
CLASS:PUBLIC
END:VEVENT
END:VCALENDAR
