BEGIN:VCALENDAR
VERSION:2.0
CALSCALE:GREGORIAN
PRODID:-//Diputació de Barcelona//DibaCMS//EN
BEGIN:VEVENT
UID:3069
DTSTAMP:20260423T093409
DTSTART:20170223T200000
DTEND:20170223T200000
SUMMARY:Acte públic de presentació de l'Estudi de millora de la carretera
LOCATION:C/ Serra, 17 08231 Ullastrell
METHOD:PUBLISH
X-WR-CALNAME:ullastrell@ullastrell.cat
X-WR-TIMEZONE:Europe/Madrid
DESCRIPTION:Obert a tothom per poder recollir diferents opinions al respecte.

URI:https://www.ullastrell.cat/actualitat/agenda/acte-public-de-presentacio-de-lestudi-de-millora-de-la-carretera.html
CLASS:PUBLIC
END:VEVENT
END:VCALENDAR
