BEGIN:VCALENDAR
VERSION:2.0
CALSCALE:GREGORIAN
PRODID:-//Diputació de Barcelona//DibaCMS//EN
BEGIN:VEVENT
UID:3071
DTSTAMP:20260423T104256
DTSTART:20170322T000000
DTEND:20170326T000000
SUMMARY:Festes de Serralavella 2017
LOCATION:
METHOD:PUBLISH
X-WR-CALNAME:ullastrell@ullastrell.cat
X-WR-TIMEZONE:Europe/Madrid
DESCRIPTION:Festa tradicional d'Ullastrell

 

URI:https://www.ullastrell.cat/actualitat/agenda/festes-de-serralavella-2017.html
CLASS:PUBLIC
END:VEVENT
END:VCALENDAR
