BEGIN:VCALENDAR
VERSION:2.0
CALSCALE:GREGORIAN
PRODID:-//Diputació de Barcelona//DibaCMS//EN
BEGIN:VEVENT
UID:3072
DTSTAMP:20260423T183252
DTSTART:20170202T210000
DTEND:20170202T210000
SUMMARY:Sessió Informativa dels Mossos d’Esquadra
LOCATION:C/ Josep Fornell, s/n 08231 Ullastrell
METHOD:PUBLISH
X-WR-CALNAME:ullastrell@ullastrell.cat
X-WR-TIMEZONE:Europe/Madrid
DESCRIPTION:
URI:https://www.ullastrell.cat/actualitat/agenda/sessio-informativa-dels-mossos-desquadra.html
CLASS:PUBLIC
END:VEVENT
END:VCALENDAR
